BEGIN:VCALENDAR
VERSION:2.0
PRODID:-//hacksw/handcal//NONSGML v1.0//EN
BEGIN:VEVENT
SUMMARY:Sortie VTT adultes
UID:99a5283c-42f2-4826-bb39-ced836ad3bc1
DTSTART:20260412T060000Z
DTEND:20260412T103000Z
LOCATION:Localisation base sports loisirs de la Lombertie  Voutezac
CATEGORIES:Sportif
STATUS:
DESCRIPTION:<p>Sortie VTT adultes au depart de la base de la
 Lombertie a Voutezac.</p><p>Rdv 8h pour le depart. </p>
URL;VALUE=URI:https://cyclotourismeobjat.sportsregions.fr/evenements/2026/04/12/sortie-vtt-adultes-2439496
END:VEVENT
END:VCALENDAR
