BEGIN:VCALENDAR
VERSION:2.0
PRODID:-//hacksw/handcal//NONSGML v1.0//EN
BEGIN:VEVENT
SUMMARY:Sortie VTT adultes
UID:43718364-5913-4f5d-b16c-b8888c1ead40
DTSTART:20260426T060000Z
DTEND:20260426T103000Z
LOCATION:Localisation 45,3198920, 1,3263780  Juillac
CATEGORIES:Sportif
STATUS:
DESCRIPTION:<p>Sortie VTT adultes au depart du local de Christophe
 Vivalda a Juillac (en face du carrefour contact)</p><p>Rdv 8h pour le
 cafe. </p>
URL;VALUE=URI:https://cyclotourismeobjat.sportsregions.fr/evenements/2026/04/26/sortie-vtt-adultes-2443072
END:VEVENT
END:VCALENDAR
